BEGIN:VCALENDAR
VERSION:2.0
PRODID:-//wp-events-plugin.com//7.2.3.1//EN
TZID:Europe/Berlin
X-WR-TIMEZONE:Europe/Berlin
BEGIN:VEVENT
UID:0-56@spdsachsenanhalt.de
DTSTART;TZID=Europe/Berlin:20260504T180000
DTEND;TZID=Europe/Berlin:20260504T200000
DTSTAMP:20260417T070309Z
URL:https://spdsachsenanhalt.de/events/kulturdialog-mit-armin-willingmann/
SUMMARY:Kulturdialog mit Armin Willingmann
DESCRIPTION:Im Mittelpunkt steht die Frage\, wie der Kulturbereich mit rech
 ten Angriffen umgeht. Welche Strategien stehen gegen Versuche der Vereinna
 hmung und Umdeutung zur\nVerfügung? Und wie können Kultureinrichtungen\,
  Zivilgesellschaft und demokratische Strukturen gestärkt werden?
LOCATION:Moses Mendelssohn Akademie / Berend Lehmann Museum / Klaussynagoge
 \, Im Rosenwinkel 18\, Halberstadt\, 38820\, Deutschland
X-APPLE-STRUCTURED-LOCATION;VALUE=URI;X-ADDRESS=Im Rosenwinkel 18\, Halbers
 tadt\, 38820\, Deutschland;X-APPLE-RADIUS=100;X-TITLE=Moses Mendelssohn Ak
 ademie / Berend Lehmann Museum / Klaussynagoge:geo:0,0
END:VEVENT
BEGIN:VTIMEZONE
TZID:Europe/Berlin
X-LIC-LOCATION:Europe/Berlin
BEGIN:DAYLIGHT
DTSTART:20260329T030000
TZOFFSETFROM:+0100
TZOFFSETTO:+0200
TZNAME:CEST
END:DAYLIGHT
END:VTIMEZONE
END:VCALENDAR